BEGIN:VCALENDAR
VERSION:2.0
PRODID:-//Libertarians of West Michigan - ECPv6.2.8//NONSGML v1.0//EN
CALSCALE:GREGORIAN
METHOD:PUBLISH
X-WR-CALNAME:Libertarians of West Michigan
X-ORIGINAL-URL:https://westmichiganlibertarians.org
X-WR-CALDESC:Events for Libertarians of West Michigan
REFRESH-INTERVAL;VALUE=DURATION:PT1H
X-Robots-Tag:noindex
X-PUBLISHED-TTL:PT1H
BEGIN:VTIMEZONE
TZID:America/Detroit
BEGIN:DAYLIGHT
TZOFFSETFROM:-0500
TZOFFSETTO:-0400
TZNAME:EDT
DTSTART:20230312T070000
END:DAYLIGHT
BEGIN:STANDARD
TZOFFSETFROM:-0400
TZOFFSETTO:-0500
TZNAME:EST
DTSTART:20231105T060000
END:STANDARD
END:VTIMEZONE
BEGIN:VEVENT
DTSTART;TZID=America/Detroit:20231125T190000
DTEND;TZID=America/Detroit:20231125T230000
DTSTAMP:20260423T015521
CREATED:20231118T183242Z
LAST-MODIFIED:20231118T183242Z
UID:606-1700938800-1700953200@westmichiganlibertarians.org
SUMMARY:Libby Awards Dinner
DESCRIPTION:The Libertarian Unity Caucus of Michigan is hosting a Libby Awards Dinner in South Lyon on Saturday November 25 at 7 pm. For more information and to register\, click here.
URL:https://westmichiganlibertarians.org/event/libby-awards-dinner/
LOCATION:South Lyon Hotel\, 201 North Lafayette Street\, South Lyon\, MI\, 48178\, United States
END:VEVENT
BEGIN:VEVENT
DTSTART;TZID=America/Detroit:20231128T190000
DTEND;TZID=America/Detroit:20231128T200000
DTSTAMP:20260423T015521
CREATED:20231118T181607Z
LAST-MODIFIED:20231118T181607Z
UID:604-1701198000-1701201600@westmichiganlibertarians.org
SUMMARY:Libertarians of West Michigan Executive Committee Meeting
DESCRIPTION:The Libertarians of West Michigan Executive Committee meets via Zoom on the fourth Tuesday of the month at 7 p.m. to address party business. Libertarians of West Michigan dues-paying members in good standing are welcome to attend\, watch\, listen and comment. For the Zoom link\, send a request to westmichiganlibertarians@gmail.com.
URL:https://westmichiganlibertarians.org/event/libertarians-of-west-michigan-executive-committee-meeting/
END:VEVENT
END:VCALENDAR